BEGIN:VCALENDAR
VERSION:2.0
PRODID:-//South Carolina Catholic - ECPv6.15.20//NONSGML v1.0//EN
CALSCALE:GREGORIAN
METHOD:PUBLISH
X-ORIGINAL-URL:https://charlestondiocese.org
X-WR-CALDESC:Events for South Carolina Catholic
REFRESH-INTERVAL;VALUE=DURATION:PT1H
X-Robots-Tag:noindex
X-PUBLISHED-TTL:PT1H
BEGIN:VTIMEZONE
TZID:America/New_York
BEGIN:DAYLIGHT
TZOFFSETFROM:-0500
TZOFFSETTO:-0400
TZNAME:EDT
DTSTART:20230312T070000
END:DAYLIGHT
BEGIN:STANDARD
TZOFFSETFROM:-0400
TZOFFSETTO:-0500
TZNAME:EST
DTSTART:20231105T060000
END:STANDARD
BEGIN:DAYLIGHT
TZOFFSETFROM:-0500
TZOFFSETTO:-0400
TZNAME:EDT
DTSTART:20240310T070000
END:DAYLIGHT
BEGIN:STANDARD
TZOFFSETFROM:-0400
TZOFFSETTO:-0500
TZNAME:EST
DTSTART:20241103T060000
END:STANDARD
BEGIN:DAYLIGHT
TZOFFSETFROM:-0500
TZOFFSETTO:-0400
TZNAME:EDT
DTSTART:20250309T070000
END:DAYLIGHT
BEGIN:STANDARD
TZOFFSETFROM:-0400
TZOFFSETTO:-0500
TZNAME:EST
DTSTART:20251102T060000
END:STANDARD
END:VTIMEZONE
BEGIN:VEVENT
DTSTART;TZID=America/New_York:20241121T193000
DTEND;TZID=America/New_York:20241121T203000
DTSTAMP:20260422T044058
CREATED:20241115T184745Z
LAST-MODIFIED:20241115T184747Z
UID:10002683-1732217400-1732221000@charlestondiocese.org
SUMMARY:Transformation of Mourning: Grief & Loss of those We Cherish
DESCRIPTION:October 24 – December 5\, 2024 | Thursday Eves @ 7:30 pm |Virtual \n\n\nPlease join us for a virtual grief support 7-week series beginning October 24\, 2024\, including Thanksgiving Evening. This series will present basic information about the human experience of losing someone close to us. You will find support in this hour-long\, weekly series through prayer\, learning\, optional sharing\, and resources. Email olsgrief@gmail.com for more information and registration.
URL:https://charlestondiocese.org/event/transformation-of-mourning-grief-loss-of-those-we-cherish-2-2/2024-11-21/
LOCATION:Virtual
CATEGORIES:Family Life
ATTACH;FMTTYPE=image/jpeg:https://charlestondiocese.org/wp-content/uploads/2024/10/Transformation-of-Mourning-2024.jpg
GEO:35.0602044;-80.9643546
END:VEVENT
BEGIN:VEVENT
DTSTART;TZID=America/New_York:20241121T193000
DTEND;TZID=America/New_York:20241121T210000
DTSTAMP:20260422T044058
CREATED:20240130T180711Z
LAST-MODIFIED:20260421T172953Z
UID:10002450-1732217400-1732222800@charlestondiocese.org
SUMMARY:Catholic Medical Professionals Group
DESCRIPTION:Come join a new forum for fellowship\, mentorship\, and discussion surrounding ethical challenges in medical practice\, as we work to foster growth in one another and strive to faithfully serve God and our community. \nMeetings are every 3rd Thursday of the month at 7:30pm \nFor more information\, email Dr. Mark Shaffer: CathMedMidlands@gmail.com\, or call the Office of Family Life: (803) 547-5063.
URL:https://charlestondiocese.org/event/catholic-medical-professional-group/2024-11-21/
CATEGORIES:Events,Family,Family Life,Life Issues
ATTACH;FMTTYPE=image/jpeg:https://charlestondiocese.org/wp-content/uploads/2024/01/catholic-medical-proffesionals-group-resized.jpg
END:VEVENT
END:VCALENDAR