BEGIN:VCALENDAR
VERSION:2.0
PRODID:-//South Carolina Catholic - ECPv6.15.20//NONSGML v1.0//EN
CALSCALE:GREGORIAN
METHOD:PUBLISH
X-WR-CALNAME:South Carolina Catholic
X-ORIGINAL-URL:https://charlestondiocese.org
X-WR-CALDESC:Events for South Carolina Catholic
REFRESH-INTERVAL;VALUE=DURATION:PT1H
X-Robots-Tag:noindex
X-PUBLISHED-TTL:PT1H
BEGIN:VTIMEZONE
TZID:America/New_York
BEGIN:DAYLIGHT
TZOFFSETFROM:-0500
TZOFFSETTO:-0400
TZNAME:EDT
DTSTART:20220313T070000
END:DAYLIGHT
BEGIN:STANDARD
TZOFFSETFROM:-0400
TZOFFSETTO:-0500
TZNAME:EST
DTSTART:20221106T060000
END:STANDARD
BEGIN:DAYLIGHT
TZOFFSETFROM:-0500
TZOFFSETTO:-0400
TZNAME:EDT
DTSTART:20230312T070000
END:DAYLIGHT
BEGIN:STANDARD
TZOFFSETFROM:-0400
TZOFFSETTO:-0500
TZNAME:EST
DTSTART:20231105T060000
END:STANDARD
BEGIN:DAYLIGHT
TZOFFSETFROM:-0500
TZOFFSETTO:-0400
TZNAME:EDT
DTSTART:20240310T070000
END:DAYLIGHT
BEGIN:STANDARD
TZOFFSETFROM:-0400
TZOFFSETTO:-0500
TZNAME:EST
DTSTART:20241103T060000
END:STANDARD
END:VTIMEZONE
BEGIN:VEVENT
DTSTART;TZID=America/New_York:20231105T080000
DTEND;TZID=America/New_York:20231119T170000
DTSTAMP:20260421T181046
CREATED:20230714T155051Z
LAST-MODIFIED:20231006T140127Z
UID:10001844-1699171200-1700413200@charlestondiocese.org
SUMMARY:Eucharistic Miracles Traveling Exhibit
DESCRIPTION:Experience the diocesan Eucharistic Miracle exhibit\, a curated selection from the Eucharistic Miracle exhibit originally created by Blessed Carlo Acutis.  It consists of 28 bilingual (English/Spanish) bifold panels that recount several Eucharistic miracles documented throughout the history of the Church.  The exhibit is divided into 4 categories\, each with an audio-visual guide accessible on mobile devices through the use of a QR code. \nThe display will be available in the church gathering space: \nSunday\, November 5 from 7:00 AM to 2:00 PM \nSaturday\, November 18\, from 3:00 PM to 6:00 PM 
URL:https://charlestondiocese.org/event/eucharistic-miracles-traveling-exhibit-7/
LOCATION:St. Philip Neri Church\, 292 Munn Rd.\, Rock Hill\, SC\, 28715
CATEGORIES:Eucharistic Revival
ATTACH;FMTTYPE=image/jpeg:https://charlestondiocese.org/wp-content/uploads/2023/07/Miracles-Exhibit-Display-1-scaled.jpg
ORGANIZER;CN="Office of Catechesis & Christian Initiation":MAILTO:cathy@charlestondiocese.org
GEO:35.0167982;-80.9664704
X-APPLE-STRUCTURED-LOCATION;VALUE=URI;X-ADDRESS=St. Philip Neri Church 292 Munn Rd. Rock Hill SC 28715;X-APPLE-RADIUS=500;X-TITLE=292 Munn Rd.:geo:-80.9664704,35.0167982
END:VEVENT
BEGIN:VEVENT
DTSTART;TZID=America/New_York:20231110T080000
DTEND;TZID=America/New_York:20231121T170000
DTSTAMP:20260421T181046
CREATED:20231031T190729Z
LAST-MODIFIED:20231031T190729Z
UID:10002357-1699603200-1700586000@charlestondiocese.org
SUMMARY:Eucharistic Miracles Traveling Exhibit
DESCRIPTION:Experience the diocesan Eucharistic Miracle exhibit\, a curated selection from the Eucharistic Miracle exhibit originally created by Blessed Carlo Acutis.  It consists of 28 bilingual (English/Spanish) bifold panels that recount several Eucharistic miracles documented throughout the history of the Church.  The exhibit is divided into 4 categories\, each with an audio-visual guide accessible on mobile devices through the use of a QR code. \nThe panels will be on display in the Parish Hall during the following hours: \nSunday 11/12 – 10:00 am – 1:00 pm \nTuesday  11/14 – 5:00 – 7:00 pm \nThursday 11/ 16 – 5:00 – 7:00 pm \nSunday 11/12 – 10:00 – 1:00 pm \n 
URL:https://charlestondiocese.org/event/eucharistic-miracles-traveling-exhibit-19/
LOCATION:St. Mary of the Immaculate Conception\, 302 Jeter St.\, Edgefield\, 29824\, United States
CATEGORIES:Eucharistic Revival
ATTACH;FMTTYPE=image/png:https://charlestondiocese.org/wp-content/uploads/2023/06/exhibit.png
ORGANIZER;CN="Office of Catechesis & Christian Initiation":MAILTO:cathy@charlestondiocese.org
GEO:33.7904312;-81.9303567
X-APPLE-STRUCTURED-LOCATION;VALUE=URI;X-ADDRESS=St. Mary of the Immaculate Conception 302 Jeter St. Edgefield 29824 United States;X-APPLE-RADIUS=500;X-TITLE=302 Jeter St.:geo:-81.9303567,33.7904312
END:VEVENT
BEGIN:VEVENT
DTSTART;VALUE=DATE:20231117
DTEND;VALUE=DATE:20231120
DTSTAMP:20260421T181046
CREATED:20231109T173558Z
LAST-MODIFIED:20231113T135613Z
UID:10002369-1700179200-1700438399@charlestondiocese.org
SUMMARY:Come to the Manger: Creche Exhibit
DESCRIPTION:St. Ann Church in Florence\, 113 S. Kemp Street\, is hosting its 13th annual Come to the Manger Creche Exhibit\, featuring over 150 nativities from around the world\, along with a craft and bake sale\, from Nov. 17-19.\nThe schedule is: \n\nNov. 17  |  9:00 am – 6:30 pm\nNov. 18  | 9:00 am – 4:30 pm\nNov. 19  |  12:30-5:30 pm\n\nHosted by the St. Ann Ladies Guild\, admission is free and donations are gratefully accepted.
URL:https://charlestondiocese.org/event/come-to-the-manger-creche-exhibit/
LOCATION:St. Ann Florence\, 113 State Rd S-21-352\, Florence\, SC\, 29506\, United States
CATEGORIES:Community Events,Parish Events
ATTACH;FMTTYPE=image/jpeg:https://charlestondiocese.org/wp-content/uploads/2023/11/2023-Come-to-the-Manger-Exhibit-Notice.jpg
ORGANIZER;CN="St. Ann Church%2C Florence":MAILTO:blewis@charlestondiocese.org
GEO:34.1968097;-79.7532404
X-APPLE-STRUCTURED-LOCATION;VALUE=URI;X-ADDRESS=St. Ann Florence 113 State Rd S-21-352 Florence SC 29506 United States;X-APPLE-RADIUS=500;X-TITLE=113 State Rd S-21-352:geo:-79.7532404,34.1968097
END:VEVENT
BEGIN:VEVENT
DTSTART;TZID=America/New_York:20231119T110000
DTEND;TZID=America/New_York:20231119T150000
DTSTAMP:20260421T181046
CREATED:20230929T170139Z
LAST-MODIFIED:20230929T170416Z
UID:10002329-1700391600-1700406000@charlestondiocese.org
SUMMARY:22nd Annual Beaufort Homes for the Holidays
DESCRIPTION:Join us for the Beaufort Homes for the Holidays 22nd Annual Tour of Homes. This easy walking tour will display six incredible homes located in The Village of Distant Island — one of the premier waterfront communities in the Beaufort area — all professionally decorated for the holidays. This year features a candlelight tour on Friday night! \nProceeds benefit St. Peter Catholic School. Cost for the Friday Candlelight Tour is $100 (must be purchased in advance online). Saturday & Sunday tour tickets are $55 in advance\, and $60 day-of. \nContact Pamela Johnson: pnrfjohnson@hotmail.com\, 843-522-6503\, or visit beauforthomesfortheholidays.com for tickets and more information!
URL:https://charlestondiocese.org/event/22nd-annual-beaufort-homes-for-the-holidays/2023-11-19/
LOCATION:The Village of Distant Island\, 105 Distant Island Drive\, Beaufort\, SC\, 29907\, United States
CATEGORIES:Community Events,Parish Events
ATTACH;FMTTYPE=image/jpeg:https://charlestondiocese.org/wp-content/uploads/2023/09/BeaufortHomesHolidays2023.jpg
ORGANIZER;CN="St. Peter Catholic Church%2C Beaufort":MAILTO:office@stpetersbeaufort.org
GEO:32.3870989;-80.6361168
X-APPLE-STRUCTURED-LOCATION;VALUE=URI;X-ADDRESS=The Village of Distant Island 105 Distant Island Drive Beaufort SC 29907 United States;X-APPLE-RADIUS=500;X-TITLE=105 Distant Island Drive:geo:-80.6361168,32.3870989
END:VEVENT
END:VCALENDAR