BEGIN:VCALENDAR
VERSION:2.0
PRODID:-//South Carolina Catholic - ECPv6.15.20//NONSGML v1.0//EN
CALSCALE:GREGORIAN
METHOD:PUBLISH
X-ORIGINAL-URL:https://charlestondiocese.org
X-WR-CALDESC:Events for South Carolina Catholic
REFRESH-INTERVAL;VALUE=DURATION:PT1H
X-Robots-Tag:noindex
X-PUBLISHED-TTL:PT1H
BEGIN:VTIMEZONE
TZID:America/New_York
BEGIN:DAYLIGHT
TZOFFSETFROM:-0500
TZOFFSETTO:-0400
TZNAME:EDT
DTSTART:20220313T070000
END:DAYLIGHT
BEGIN:STANDARD
TZOFFSETFROM:-0400
TZOFFSETTO:-0500
TZNAME:EST
DTSTART:20221106T060000
END:STANDARD
BEGIN:DAYLIGHT
TZOFFSETFROM:-0500
TZOFFSETTO:-0400
TZNAME:EDT
DTSTART:20230312T070000
END:DAYLIGHT
BEGIN:STANDARD
TZOFFSETFROM:-0400
TZOFFSETTO:-0500
TZNAME:EST
DTSTART:20231105T060000
END:STANDARD
BEGIN:DAYLIGHT
TZOFFSETFROM:-0500
TZOFFSETTO:-0400
TZNAME:EDT
DTSTART:20240310T070000
END:DAYLIGHT
BEGIN:STANDARD
TZOFFSETFROM:-0400
TZOFFSETTO:-0500
TZNAME:EST
DTSTART:20241103T060000
END:STANDARD
END:VTIMEZONE
BEGIN:VEVENT
DTSTART;VALUE=DATE:20230928
DTEND;VALUE=DATE:20231110
DTSTAMP:20260422T080306
CREATED:20230919T163509Z
LAST-MODIFIED:20230919T163509Z
UID:10002317-1695859200-1699574399@charlestondiocese.org
SUMMARY:Online Retreat for Adult Children of Divorce
DESCRIPTION:The Life-Giving Wounds online healing retreat is a unique opportunity for adult children of divorce or separation (ACODs) to reflect intentionally on the wounds caused by their family’s breakdown\, together with others who know this pain. Together\, modeled on the suffering and resurrection of Christ\, we’ll follow a “Paschal journey” through first the pain (“death”) of our parents’ broken relationship\, uncovering the various layers of the wound; then the deep joy (“rising”) of accepting anew our deepest identity as God’s beloved children and growing in relationship with others and God; and finally a way forward in the suffering (“going forth”) renewed in hope and joy. To register\, visit https://www.lifegivingwounds.org/onlineretreat2023.
URL:https://charlestondiocese.org/event/online-retreat-for-adult-children-of-divorce/
CATEGORIES:Family,Family Life
ATTACH;FMTTYPE=image/jpeg:https://charlestondiocese.org/wp-content/uploads/2023/09/LGWOnlineRetreatwithBible-1.jpg
END:VEVENT
BEGIN:VEVENT
DTSTART;VALUE=DATE:20231003
DTEND;VALUE=DATE:20231026
DTSTAMP:20260422T080306
CREATED:20230919T145231Z
LAST-MODIFIED:20231009T183426Z
UID:10002315-1696291200-1698278399@charlestondiocese.org
SUMMARY:October NFP Introductory Sessions
DESCRIPTION:October NFP Introductory Sessions \nOctober 3\, 12\, 14\, 18\, 19\, 21 and 25 \nWe have virtual and in-person introductory sessions for Natural Family Planning this month: \nOnline \n\nOct 3 | 7:00 p.m. — lexiesawonik@gmail.com\nOct 14 | 11:00 a.m. — bernapowell97@gmail.com\nOct 18 | 8:00 p.m. — bit.ly/introwithemma\nOct 19 | 6:30 p.m. — janellenapro@gmail.com\n\nIn Person \n\nOct 12 | 7:00 p.m. — St. Francis Eastside in Greenville – napronurse@aol.com\nOct 21 | 2:00 p.m. — St. Andrew Catholic in Myrtle Beach – bleyernfp@gmail.com\nOct 25 | 6:00 p.m. — St. Joseph in Columbia — naprogal@gmail.com\n\n  \nWe have instructors for Natural Family Planning International\, Couple to Couple League\, Marquette Method\, and Billings (Spanish) upon request. Contact jflorendo@charlestondiocese.org.
URL:https://charlestondiocese.org/event/october-nfp-introductory-sessions/
CATEGORIES:NFP & Infertility
ATTACH;FMTTYPE=image/png:https://charlestondiocese.org/wp-content/uploads/2023/09/NFP-October-Front.png
END:VEVENT
END:VCALENDAR