BEGIN:VCALENDAR
VERSION:2.0
PRODID:-//South Carolina Catholic - ECPv6.15.20//NONSGML v1.0//EN
CALSCALE:GREGORIAN
METHOD:PUBLISH
X-WR-CALNAME:South Carolina Catholic
X-ORIGINAL-URL:https://charlestondiocese.org
X-WR-CALDESC:Events for South Carolina Catholic
REFRESH-INTERVAL;VALUE=DURATION:PT1H
X-Robots-Tag:noindex
X-PUBLISHED-TTL:PT1H
BEGIN:VTIMEZONE
TZID:America/New_York
BEGIN:DAYLIGHT
TZOFFSETFROM:-0500
TZOFFSETTO:-0400
TZNAME:EDT
DTSTART:20220313T070000
END:DAYLIGHT
BEGIN:STANDARD
TZOFFSETFROM:-0400
TZOFFSETTO:-0500
TZNAME:EST
DTSTART:20221106T060000
END:STANDARD
BEGIN:DAYLIGHT
TZOFFSETFROM:-0500
TZOFFSETTO:-0400
TZNAME:EDT
DTSTART:20230312T070000
END:DAYLIGHT
BEGIN:STANDARD
TZOFFSETFROM:-0400
TZOFFSETTO:-0500
TZNAME:EST
DTSTART:20231105T060000
END:STANDARD
BEGIN:DAYLIGHT
TZOFFSETFROM:-0500
TZOFFSETTO:-0400
TZNAME:EDT
DTSTART:20240310T070000
END:DAYLIGHT
BEGIN:STANDARD
TZOFFSETFROM:-0400
TZOFFSETTO:-0500
TZNAME:EST
DTSTART:20241103T060000
END:STANDARD
END:VTIMEZONE
BEGIN:VEVENT
DTSTART;TZID=America/New_York:20230203T150000
DTEND;TZID=America/New_York:20230205T150000
DTSTAMP:20260422T043954
CREATED:20230106T170823Z
LAST-MODIFIED:20230106T170825Z
UID:10002133-1675436400-1675609200@charlestondiocese.org
SUMMARY:Men’s Discernment Retreat 2023
DESCRIPTION:This retreat is designed for young adult men who would like to go more deeply in discernment of their possible call to priesthood or religious life. Participants join priests in days of prayer\, fellowship\, sharing and discussions. \nThis is a beautiful time where young men can have their questions answered and hear the stories of others who have carried out this discernment before — plus spend time in conversation with other men traveling the same road.
URL:https://charlestondiocese.org/event/mens-discernment-retreat-2023/
LOCATION:Camp Gravatt\, 1006 Camp Gravatt Road\, Aiken\, 29805\, United States
CATEGORIES:Vocation Events
ORGANIZER;CN="Office of Vocations":MAILTO:vocations@charlestondiocese.org
GEO:33.7378654;-81.585815
X-APPLE-STRUCTURED-LOCATION;VALUE=URI;X-ADDRESS=Camp Gravatt 1006 Camp Gravatt Road Aiken 29805 United States;X-APPLE-RADIUS=500;X-TITLE=1006 Camp Gravatt Road:geo:-81.585815,33.7378654
END:VEVENT
BEGIN:VEVENT
DTSTART;VALUE=DATE:20230205
DTEND;VALUE=DATE:20230206
DTSTAMP:20260422T043954
CREATED:20230113T190820Z
LAST-MODIFIED:20230113T191832Z
UID:10002141-1675555200-1675641599@charlestondiocese.org
SUMMARY:National Day of Prayer for the African American and African Family
DESCRIPTION:The Office of Black Catholic Ministry invites you to join in a National Day of Prayer for the African American and African Family. We offer this day of prayer in loving tribute to Franciscan Father James E. Goode\, Ph.D. \nThrough his relationship with Jesus\, Father Goode understood in a deep way that Christ’s role on earth was to serve as the face of God the Father\, drenching us with his mercy. He wanted us all to know that God’s mercy endures forever. \nFor additional details\, and for how to best celebrate this day of prayer\, please download or view the following: https://charlestondiocese.org/wp-content/uploads/2023/01/Black-Catholics-Day-of-Prayer.pdf.
URL:https://charlestondiocese.org/event/national-day-of-prayer-for-the-african-american-and-african-family/
CATEGORIES:Black Catholics Ministry
ATTACH;FMTTYPE=image/jpeg:https://charlestondiocese.org/wp-content/uploads/2023/01/Black-Catholics-2023-Day-of-Prayer.jpg
ORGANIZER;CN="Diocese of Charleston-Black Catholic Ministry":MAILTO:kmerritt@charlestondiocese.org
END:VEVENT
END:VCALENDAR